{"text_format":"3","workbook":"xlsx","n_sheets":7,"sheets":["記入例","入力用（10％）","正（10％）","請求者控（10％）","入力用 (8％)","正 (8％)","請求者控 (8％)"],"not_rendered":{"macros":1,"defined_names":7},"read":"whole","date_system":"1900"}

{"sheet":"記入例","index":0,"n_rows":28,"n_cols":34,"rows_kept":28,"merged":[[0,11,1,19],[0,20,1,22],[1,26,1,27],[4,0,4,3],[4,5,4,6],[4,8,4,9],[4,15,4,18],[4,20,4,31],[5,15,11,18],[5,19,6,31],[6,0,7,7],[7,19,8,29],[7,30,8,31],[9,19,10,31],[10,0,11,3],[10,4,11,11],[11,19,11,31],[13,0,13,3],[13,4,13,8],[13,10,13,13],[13,14,13,31],[15,0,15,1],[15,2,15,17],[15,18,15,19],[15,20,15,21],[15,22,15,25],[15,26,15,31],[16,0,16,1],[16,2,16,17],[16,18,16,19],[16,20,16,21],[16,22,16,25],[16,26,16,31],[17,0,17,1],[17,2,17,17],[17,18,17,19],[17,20,17,21],[17,22,17,25],[17,26,17,31],[18,0,18,1],[18,2,18,17],[18,18,18,19],[18,20,18,21],[18,22,18,25],[18,26,18,31],[19,0,19,1],[19,2,19,17],[19,18,19,19],[19,20,19,21],[19,22,19,25],[19,26,19,31],[20,0,20,1],[20,2,20,17],[20,18,20,19],[20,20,20,21],[20,22,20,25],[20,26,20,31],[21,0,21,1],[21,2,21,17],[21,18,21,19],[21,20,21,21],[21,22,21,25],[21,26,21,31],[22,0,22,1],[22,2,22,17],[22,18,22,19],[22,20,22,21],[22,22,22,25],[22,26,22,31],[23,0,23,1],[23,2,23,17],[23,18,23,19],[23,20,23,21],[23,22,23,25],[23,26,23,31],[24,0,24,1],[24,2,24,17],[24,18,24,19],[24,20,24,21],[24,22,24,25],[24,26,24,31],[25,0,25,1],[25,2,25,17],[25,18,25,19],[25,20,25,21],[25,22,25,25],[25,26,25,31],[26,0,26,1],[26,2,26,13],[26,14,26,17],[26,18,26,21],[26,22,26,25],[26,26,26,31],[27,0,27,1],[27,2,27,13],[27,14,27,15],[27,16,27,17],[27,18,27,20],[27,21,27,31]]}
[{"$nulls":11},"請求書",{"$nulls":8},"（入力用）"]
[{"$nulls":26},"No."]
[]
[]
["XXXX",{"$nulls":3},"年","XX",null,"月","XX",null,"日",{"$nulls":4},"登録番号",{"$nulls":3},"T","0-0000-0000",{"$nulls":12},"＜ご案内＞"]
[{"$nulls":15},"請求者",{"$nulls":3},"東京都XX区XXX町XX-XX",{"$nulls":13},"・色のついたところにご入力ください。"]
["株式会社フロント殿",{"$nulls":32},"・合計額が合っているか、必ずご確認ください。"]
[{"$nulls":19},"○○株式会社",{"$nulls":10},"印",null,null,"・適用欄の記入方法は１マス１行に限りませんが、不足した場合には右上No. に"]
[null,"下記の通り請求いたします。",{"$nulls":31},"　番号を振り、複数枚ご提出ください。"]
[{"$nulls":19},"代表取締役　○○　○○",{"$nulls":13},"※適格請求書発行事業者登録をしていない場合、交通費や宿泊費、宅急便代等の請求は"]
["請求金額",{"$nulls":3},{"$f":"V28","v":{"v":110000,"d":"110,000 "}},{"$nulls":28},"　立替金精算書をご利用ください。"]
[{"$nulls":19},"XX-XXXX-XXXX"]
[{"$nulls":33},"・PDFで送信する場合の送り先"]
["工事番号",{"$nulls":9},"工事名称",{"$nulls":3},"〇×ビル新築工事",{"$nulls":18},"     keiri3391@arc-front.co.jp"]
[]
["日付",null,"摘　　要",{"$nulls":15},"数量",null,"単位",null,"単　価",{"$nulls":3},"金　額"]
["X/2",null,"取り付け工事（運賃25,000円含む）",{"$nulls":15},{"v":1,"d":"1.0"},null,"式",{"$nulls":5},{"v":100000,"d":"100,000 "}]
{"$rows_empty":9}
[{"$nulls":14},"消費税 10%",{"$nulls":3},{"$f":"AA27*0.1","v":{"v":10000,"d":"10,000 "}},{"$nulls":3},"小計(10％対象)",{"$nulls":3},{"$f":"SUM(AA17:AF26)","v":{"v":100000,"d":"100,000 "}}]
[{"$nulls":18},"合　　計",null,null,{"$f":"SUM(AA27,S27)","v":{"v":110000,"d":"110,000 "}}]

{"sheet":"入力用（10％）","index":1,"n_rows":28,"n_cols":34,"rows_kept":28,"merged":[[0,11,1,19],[0,20,1,22],[1,26,1,27],[4,0,4,3],[4,5,4,6],[4,8,4,9],[4,15,4,18],[4,20,4,31],[5,15,11,18],[5,19,6,31],[6,0,7,7],[7,19,8,29],[7,30,8,31],[9,19,10,31],[10,0,11,3],[10,4,11,11],[11,19,11,31],[13,0,13,3],[13,4,13,8],[13,10,13,13],[13,14,13,31],[15,0,15,1],[15,2,15,17],[15,18,15,19],[15,20,15,21],[15,22,15,25],[15,26,15,31],[16,0,16,1],[16,2,16,17],[16,18,16,19],[16,20,16,21],[16,22,16,25],[16,26,16,31],[17,0,17,1],[17,2,17,17],[17,18,17,19],[17,20,17,21],[17,22,17,25],[17,26,17,31],[18,0,18,1],[18,2,18,17],[18,18,18,19],[18,20,18,21],[18,22,18,25],[18,26,18,31],[19,0,19,1],[19,2,19,17],[19,18,19,19],[19,20,19,21],[19,22,19,25],[19,26,19,31],[20,0,20,1],[20,2,20,17],[20,18,20,19],[20,20,20,21],[20,22,20,25],[20,26,20,31],[21,0,21,1],[21,2,21,17],[21,18,21,19],[21,20,21,21],[21,22,21,25],[21,26,21,31],[22,0,22,1],[22,2,22,17],[22,18,22,19],[22,20,22,21],[22,22,22,25],[22,26,22,31],[23,0,23,1],[23,2,23,17],[23,18,23,19],[23,20,23,21],[23,22,23,25],[23,26,23,31],[24,0,24,1],[24,2,24,17],[24,18,24,19],[24,20,24,21],[24,22,24,25],[24,26,24,31],[25,0,25,1],[25,2,25,17],[25,18,25,19],[25,20,25,21],[25,22,25,25],[25,26,25,31],[26,0,26,1],[26,2,26,13],[26,14,26,17],[26,18,26,21],[26,22,26,25],[26,26,26,31],[27,0,27,1],[27,2,27,13],[27,14,27,15],[27,16,27,17],[27,18,27,20],[27,21,27,31]]}
[{"$nulls":11},"請求書",{"$nulls":8},"（入力用）"]
[{"$nulls":26},"No."]
[]
[]
[{"$nulls":4},"年",null,null,"月",null,null,"日",{"$nulls":4},"登録番号",{"$nulls":3},"T","0-0000-0000",{"$nulls":12},"＜ご案内＞"]
[{"$nulls":15},"請求者",{"$nulls":3},"(住所)",{"$nulls":13},"・色のついたところにご入力ください。"]
["株式会社フロント殿",{"$nulls":32},"・合計額が合っているか、必ずご確認ください。"]
[{"$nulls":19},"(会社名)",{"$nulls":10},"印",null,null,"・適用欄の記入方法は１マス１行に限りませんが、不足した場合には右上No. に"]
[null,"下記の通り請求いたします。",{"$nulls":31},"　番号を振り、複数枚ご提出ください。"]
[{"$nulls":19},"(代表者名)",{"$nulls":13},"※適格請求書発行事業者登録をしていない場合、交通費や宿泊費、宅急便代等の請求は"]
["請求金額",{"$nulls":3},{"$f":"V28","v":{"v":0,"d":"0 "}},{"$nulls":28},"　立替金精算書をご利用ください。"]
[{"$nulls":19},"(電話番号)"]
[{"$nulls":33},"・PDFで送信する場合の送り先"]
["工事番号",{"$nulls":9},"工事名称",{"$nulls":22},"（仮）keiri@arc-front.co.jp"]
[]
["日付",null,"摘　　要",{"$nulls":15},"数量",null,"単位",null,"単　価",{"$nulls":3},"金　額"]
{"$rows_empty":10}
[{"$nulls":14},"消費税 10％",{"$nulls":3},{"$f":"AA27*0.1","v":{"v":0,"d":"0 "}},{"$nulls":3},"小計(10％対象)",{"$nulls":3},{"$f":"SUM(AA17:AF26)","v":{"v":0,"d":"0 "}}]
[{"$nulls":18},"合　　計",null,null,{"$f":"SUM(AA27,S27)","v":{"v":0,"d":"0 "}}]

{"sheet":"正（10％）","index":2,"n_rows":37,"n_cols":31,"rows_kept":37,"merged":[[0,11,1,19],[4,0,4,3],[4,5,4,6],[4,8,4,9],[4,15,4,18],[4,20,4,31],[5,15,11,18],[5,19,6,31],[6,0,7,7],[7,19,8,29],[7,30,8,31],[9,19,10,31],[10,0,11,3],[10,4,11,11],[11,19,11,31],[13,0,13,3],[13,4,13,8],[13,10,13,13],[13,14,13,31],[15,0,15,1],[15,2,15,17],[15,18,15,19],[15,20,15,21],[15,22,15,25],[15,26,15,31],[16,0,16,1],[16,2,16,17],[16,18,16,19],[16,20,16,21],[16,22,16,25],[16,26,16,31],[17,0,17,1],[17,2,17,17],[17,18,17,19],[17,20,17,21],[17,22,17,25],[17,26,17,31],[18,0,18,1],[18,2,18,17],[18,18,18,19],[18,20,18,21],[18,22,18,25],[18,26,18,31],[19,0,19,1],[19,2,19,17],[19,18,19,19],[19,20,19,21],[19,22,19,25],[19,26,19,31],[20,0,20,1],[20,2,20,17],[20,18,20,19],[20,20,20,21],[20,22,20,25],[20,26,20,31],[21,0,21,1],[21,2,21,17],[21,18,21,19],[21,20,21,21],[21,22,21,25],[21,26,21,31],[22,0,22,1],[22,2,22,17],[22,18,22,19],[22,20,22,21],[22,22,22,25],[22,26,22,31],[23,0,23,1],[23,2,23,17],[23,18,23,19],[23,20,23,21],[23,22,23,25],[23,26,23,31],[24,0,24,1],[24,2,24,17],[24,18,24,19],[24,20,24,21],[24,22,24,25],[24,26,24,31],[25,0,25,1],[25,2,25,17],[25,18,25,19],[25,20,25,21],[25,22,25,25],[25,26,25,31],[26,0,26,1],[26,2,26,13],[26,14,26,17],[26,18,26,21],[26,22,26,25],[26,26,26,31],[27,0,27,1],[27,2,27,13],[27,14,27,15],[27,16,27,17],[27,18,27,20],[27,21,27,31],[31,0,31,5],[32,0,33,3],[32,4,33,11],[32,12,35,13],[32,14,32,16],[32,17,32,19],[32,20,32,22],[32,23,32,25],[32,26,32,28],[32,29,32,31],[33,14,35,16],[33,17,35,19],[33,20,35,22],[33,23,35,25],[33,26,35,28],[33,29,35,31],[34,0,35,3],[34,4,35,11],[36,0,37,3],[36,4,37,31]]}
[{"$nulls":11},"請求書"]
[{"$nulls":26},"No."]
[]
[]
[{"$f":"'入力用（10％）'!A5","v":0},{"$nulls":3},"年",{"$f":"'入力用（10％）'!F5","v":0},null,"月",{"$f":"'入力用（10％）'!I5","v":0},null,"日",{"$nulls":4},"登録番号",{"$nulls":3},"T",{"$f":"'入力用（10％）'!U5","v":"0-0000-0000"}]
[{"$nulls":15},"請求者",{"$nulls":3},{"$f":"'入力用（10％）'!T6","v":"(住所)"}]
["株式会社フロント殿"]
[{"$nulls":19},{"$f":"'入力用（10％）'!T8","v":"(会社名)"},{"$nulls":10},{"$f":"'入力用（10％）'!AE8","v":"印"}]
[null,"下記の通り請求いたします。"]
[{"$nulls":19},{"$f":"'入力用（10％）'!T10","v":"(代表者名)"}]
["請求金額",{"$nulls":3},{"$f":"V28","v":{"v":0,"d":"0 "}}]
[{"$nulls":19},{"$f":"'入力用（10％）'!T12","v":"(電話番号)"}]
[]
["工事番号",{"$nulls":3},{"$f":"'入力用（10％）'!E14","v":0},{"$nulls":5},"工事名称",{"$nulls":3},{"$f":"'入力用（10％）'!O14","v":0}]
[]
["日付",null,"適　　用",{"$nulls":15},"数量",null,"単位",null,"単　価",{"$nulls":3},"金　額"]
[{"$f":"IF('入力用（10％）'!A17=\"\",\"\",'入力用（10％）'!A17)","v":""},null,{"$f":"'入力用（10％）'!C17","v":0},{"$nulls":15},{"$f":"'入力用（10％）'!S17","v":{"v":0,"d":"0.0"}},null,{"$f":"'入力用（10％）'!U17","v":{"v":0,"d":"0 "}},null,{"$f":"'入力用（10％）'!W17","v":{"v":0,"d":"0 "}},null,{"$f":"'入力用（10％）'!Y17","v":{"v":0,"d":"0 "}},null,{"$f":"'入力用（10％）'!AA17","v":{"v":0,"d":"0 "}},null,{"$f":"'入力用（10％）'!AC17","v":{"v":0,"d":"0 "}},null,{"$f":"'入力用（10％）'!AE17","v":{"v":0,"d":"0 "}}]
[{"$f":"IF('入力用（10％）'!A18=\"\",\"\",'入力用（10％）'!A18)","v":""},null,{"$f":"'入力用（10％）'!C18","v":0},{"$nulls":15},{"$f":"'入力用（10％）'!S18","v":{"v":0,"d":"0.0"}},null,{"$f":"'入力用（10％）'!U18","v":{"v":0,"d":"0 "}},null,{"$f":"'入力用（10％）'!W18","v":{"v":0,"d":"0 "}},null,{"$f":"'入力用（10％）'!Y18","v":{"v":0,"d":"0 "}},null,{"$f":"'入力用（10％）'!AA18","v":{"v":0,"d":"0 "}},null,{"$f":"'入力用（10％）'!AC18","v":{"v":0,"d":"0 "}},null,{"$f":"'入力用（10％）'!AE18","v":{"v":0,"d":"0 "}}]
[{"$f":"IF('入力用（10％）'!A19=\"\",\"\",'入力用（10％）'!A19)","v":""},null,{"$f":"'入力用（10％）'!C19","v":0},{"$nulls":15},{"$f":"'入力用（10％）'!S19","v":{"v":0,"d":"0.0"}},null,{"$f":"'入力用（10％）'!U19","v":{"v":0,"d":"0 "}},null,{"$f":"'入力用（10％）'!W19","v":{"v":0,"d":"0 "}},null,{"$f":"'入力用（10％）'!Y19","v":{"v":0,"d":"0 "}},null,{"$f":"'入力用（10％）'!AA19","v":{"v":0,"d":"0 "}},null,{"$f":"'入力用（10％）'!AC19","v":{"v":0,"d":"0 "}},null,{"$f":"'入力用（10％）'!AE19","v":{"v":0,"d":"0 "}}]
[{"$f":"IF('入力用（10％）'!A20=\"\",\"\",'入力用（10％）'!A20)","v":""},null,{"$f":"'入力用（10％）'!C20","v":0},{"$nulls":15},{"$f":"'入力用（10％）'!S20","v":{"v":0,"d":"0.0"}},null,{"$f":"'入力用（10％）'!U20","v":{"v":0,"d":"0 "}},null,{"$f":"'入力用（10％）'!W20","v":{"v":0,"d":"0 "}},null,{"$f":"'入力用（10％）'!Y20","v":{"v":0,"d":"0 "}},null,{"$f":"'入力用（10％）'!AA20","v":{"v":0,"d":"0 "}},null,{"$f":"'入力用（10％）'!AC20","v":{"v":0,"d":"0 "}},null,{"$f":"'入力用（10％）'!AE20","v":{"v":0,"d":"0 "}}]
[{"$f":"IF('入力用（10％）'!A21=\"\",\"\",'入力用（10％）'!A21)","v":""},null,{"$f":"'入力用（10％）'!C21","v":0},{"$nulls":15},{"$f":"'入力用（10％）'!S21","v":{"v":0,"d":"0.0"}},null,{"$f":"'入力用（10％）'!U21","v":{"v":0,"d":"0 "}},null,{"$f":"'入力用（10％）'!W21","v":{"v":0,"d":"0 "}},null,{"$f":"'入力用（10％）'!Y21","v":{"v":0,"d":"0 "}},null,{"$f":"'入力用（10％）'!AA21","v":{"v":0,"d":"0 "}},null,{"$f":"'入力用（10％）'!AC21","v":{"v":0,"d":"0 "}},null,{"$f":"'入力用（10％）'!AE21","v":{"v":0,"d":"0 "}}]
[{"$f":"IF('入力用（10％）'!A22=\"\",\"\",'入力用（10％）'!A22)","v":""},null,{"$f":"'入力用（10％）'!C22","v":0},{"$nulls":15},{"$f":"'入力用（10％）'!S22","v":{"v":0,"d":"0.0"}},null,{"$f":"'入力用（10％）'!U22","v":{"v":0,"d":"0 "}},null,{"$f":"'入力用（10％）'!W22","v":{"v":0,"d":"0 "}},null,{"$f":"'入力用（10％）'!Y22","v":{"v":0,"d":"0 "}},null,{"$f":"'入力用（10％）'!AA22","v":{"v":0,"d":"0 "}},null,{"$f":"'入力用（10％）'!AC22","v":{"v":0,"d":"0 "}},null,{"$f":"'入力用（10％）'!AE22","v":{"v":0,"d":"0 "}}]
[{"$f":"IF('入力用（10％）'!A23=\"\",\"\",'入力用（10％）'!A23)","v":""},null,{"$f":"'入力用（10％）'!C23","v":0},{"$nulls":15},{"$f":"'入力用（10％）'!S23","v":{"v":0,"d":"0.0"}},null,{"$f":"'入力用（10％）'!U23","v":{"v":0,"d":"0 "}},null,{"$f":"'入力用（10％）'!W23","v":{"v":0,"d":"0 "}},null,{"$f":"'入力用（10％）'!Y23","v":{"v":0,"d":"0 "}},null,{"$f":"'入力用（10％）'!AA23","v":{"v":0,"d":"0 "}},null,{"$f":"'入力用（10％）'!AC23","v":{"v":0,"d":"0 "}},null,{"$f":"'入力用（10％）'!AE23","v":{"v":0,"d":"0 "}}]
[{"$f":"IF('入力用（10％）'!A24=\"\",\"\",'入力用（10％）'!A24)","v":""},null,{"$f":"'入力用（10％）'!C24","v":0},{"$nulls":15},{"$f":"'入力用（10％）'!S24","v":{"v":0,"d":"0.0"}},null,{"$f":"'入力用（10％）'!U24","v":{"v":0,"d":"0 "}},null,{"$f":"'入力用（10％）'!W24","v":{"v":0,"d":"0 "}},null,{"$f":"'入力用（10％）'!Y24","v":{"v":0,"d":"0 "}},null,{"$f":"'入力用（10％）'!AA24","v":{"v":0,"d":"0 "}},null,{"$f":"'入力用（10％）'!AC24","v":{"v":0,"d":"0 "}},null,{"$f":"'入力用（10％）'!AE24","v":{"v":0,"d":"0 "}}]
[{"$f":"IF('入力用（10％）'!A25=\"\",\"\",'入力用（10％）'!A25)","v":""},null,{"$f":"'入力用（10％）'!C25","v":0},{"$nulls":15},{"$f":"'入力用（10％）'!S25","v":{"v":0,"d":"0.0"}},null,{"$f":"'入力用（10％）'!U25","v":{"v":0,"d":"0 "}},null,{"$f":"'入力用（10％）'!W25","v":{"v":0,"d":"0 "}},null,{"$f":"'入力用（10％）'!Y25","v":{"v":0,"d":"0 "}},null,{"$f":"'入力用（10％）'!AA25","v":{"v":0,"d":"0 "}},null,{"$f":"'入力用（10％）'!AC25","v":{"v":0,"d":"0 "}},null,{"$f":"'入力用（10％）'!AE25","v":{"v":0,"d":"0 "}}]
[{"$f":"IF('入力用（10％）'!A26=\"\",\"\",'入力用（10％）'!A26)","v":""},null,{"$f":"'入力用（10％）'!C26","v":0},{"$nulls":15},{"$f":"'入力用（10％）'!S26","v":{"v":0,"d":"0.0"}},null,{"$f":"'入力用（10％）'!U26","v":{"v":0,"d":"0 "}},null,{"$f":"'入力用（10％）'!W26","v":{"v":0,"d":"0 "}},null,{"$f":"'入力用（10％）'!Y26","v":{"v":0,"d":"0 "}},null,{"$f":"'入力用（10％）'!AA26","v":{"v":0,"d":"0 "}},null,{"$f":"'入力用（10％）'!AC26","v":{"v":0,"d":"0 "}},null,{"$f":"'入力用（10％）'!AE26","v":{"v":0,"d":"0 "}}]
[{"$nulls":14},"消費税 10％",{"$nulls":3},{"$f":"AA27*0.1","v":{"v":0,"d":"0 "}},{"$nulls":3},"小計(10％対象)",{"$nulls":3},{"$f":"SUM(AA17:AF26)","v":{"v":0,"d":"0 "}}]
[{"$nulls":18},"合　　計",null,null,{"$f":"SUM(AA27,S27)","v":{"v":0,"d":"0 "}}]
[]
[]
[]
["㈱フロント記入欄"]
["注文番号",{"$nulls":11},"承認",null,"会長",null,null,"社長",null,null,"部長",null,null,"担当"]
[]
["工事項目コード"]
[]
["備　考"]

{"sheet":"請求者控（10％）","index":3,"n_rows":28,"n_cols":31,"rows_kept":28,"merged":[[0,11,1,19],[0,20,1,21],[4,0,4,3],[4,5,4,6],[4,8,4,9],[4,15,4,18],[4,20,4,31],[5,15,11,18],[5,19,6,31],[6,0,7,7],[7,19,8,29],[7,30,8,31],[9,19,10,31],[10,0,11,3],[10,4,11,11],[11,19,11,31],[13,0,13,3],[13,4,13,8],[13,10,13,13],[13,14,13,31],[15,0,15,1],[15,2,15,17],[15,18,15,19],[15,20,15,21],[15,22,15,25],[15,26,15,31],[16,0,16,1],[16,2,16,17],[16,18,16,19],[16,20,16,21],[16,22,16,25],[16,26,16,31],[17,0,17,1],[17,2,17,17],[17,18,17,19],[17,20,17,21],[17,22,17,25],[17,26,17,31],[18,0,18,1],[18,2,18,17],[18,18,18,19],[18,20,18,21],[18,22,18,25],[18,26,18,31],[19,0,19,1],[19,2,19,17],[19,18,19,19],[19,20,19,21],[19,22,19,25],[19,26,19,31],[20,0,20,1],[20,2,20,17],[20,18,20,19],[20,20,20,21],[20,22,20,25],[20,26,20,31],[21,0,21,1],[21,2,21,17],[21,18,21,19],[21,20,21,21],[21,22,21,25],[21,26,21,31],[22,0,22,1],[22,2,22,17],[22,18,22,19],[22,20,22,21],[22,22,22,25],[22,26,22,31],[23,0,23,1],[23,2,23,17],[23,18,23,19],[23,20,23,21],[23,22,23,25],[23,26,23,31],[24,0,24,1],[24,2,24,17],[24,18,24,19],[24,20,24,21],[24,22,24,25],[24,26,24,31],[25,0,25,1],[25,2,25,17],[25,18,25,19],[25,20,25,21],[25,22,25,25],[25,26,25,31],[26,0,26,1],[26,2,26,13],[26,14,26,17],[26,18,26,21],[26,22,26,25],[26,26,26,31],[27,0,27,1],[27,2,27,13],[27,14,27,15],[27,16,27,17],[27,18,27,20],[27,21,27,31]]}
[{"$nulls":11},"請求書",{"$nulls":8},"（控）"]
[{"$nulls":26},"No."]
[]
[]
[{"$f":"'入力用（10％）'!A5","v":0},{"$nulls":3},"年",{"$f":"'入力用（10％）'!F5","v":0},null,"月",{"$f":"'入力用（10％）'!I5","v":0},null,"日",{"$nulls":4},"登録番号",{"$nulls":3},"T",{"$f":"'入力用（10％）'!U5","v":"0-0000-0000"}]
[{"$nulls":15},"請求者",{"$nulls":3},{"$f":"'入力用（10％）'!T6","v":"(住所)"}]
["株式会社フロント殿"]
[{"$nulls":19},{"$f":"'入力用（10％）'!T8","v":"(会社名)"},{"$nulls":10},{"$f":"'入力用（10％）'!AE8","v":"印"}]
[null,"下記の通り請求いたします。"]
[{"$nulls":19},{"$f":"'入力用（10％）'!T10","v":"(代表者名)"}]
["請求金額",{"$nulls":3},{"$f":"V28","v":{"v":0,"d":"0 "}}]
[{"$nulls":19},{"$f":"'入力用（10％）'!T12","v":"(電話番号)"}]
[]
["工事番号",{"$nulls":3},{"$f":"'入力用（10％）'!E14","v":0},{"$nulls":5},"工事名称",{"$nulls":3},{"$f":"'入力用（10％）'!O14","v":0}]
[]
["日付",null,"適　　用",{"$nulls":15},"数量",null,"単位",null,"単　価",{"$nulls":3},"金　額"]
[{"$f":"IF('入力用（10％）'!A17=\"\",\"\",'入力用（10％）'!A17)","v":""},null,{"$f":"'入力用（10％）'!C17","v":0},{"$nulls":15},{"$f":"'入力用（10％）'!S17","v":{"v":0,"d":"0.0"}},null,{"$f":"'入力用（10％）'!U17","v":{"v":0,"d":"0 "}},null,{"$f":"'入力用（10％）'!W17","v":{"v":0,"d":"0 "}},null,{"$f":"'入力用（10％）'!Y17","v":{"v":0,"d":"0 "}},null,{"$f":"'入力用（10％）'!AA17","v":{"v":0,"d":"0 "}},null,{"$f":"'入力用（10％）'!AC17","v":{"v":0,"d":"0 "}},null,{"$f":"'入力用（10％）'!AE17","v":{"v":0,"d":"0 "}}]
[{"$f":"IF('入力用（10％）'!A18=\"\",\"\",'入力用（10％）'!A18)","v":""},null,{"$f":"'入力用（10％）'!C18","v":0},{"$nulls":15},{"$f":"'入力用（10％）'!S18","v":{"v":0,"d":"0.0"}},null,{"$f":"'入力用（10％）'!U18","v":{"v":0,"d":"0 "}},null,{"$f":"'入力用（10％）'!W18","v":{"v":0,"d":"0 "}},null,{"$f":"'入力用（10％）'!Y18","v":{"v":0,"d":"0 "}},null,{"$f":"'入力用（10％）'!AA18","v":{"v":0,"d":"0 "}},null,{"$f":"'入力用（10％）'!AC18","v":{"v":0,"d":"0 "}},null,{"$f":"'入力用（10％）'!AE18","v":{"v":0,"d":"0 "}}]
[{"$f":"IF('入力用（10％）'!A19=\"\",\"\",'入力用（10％）'!A19)","v":""},null,{"$f":"'入力用（10％）'!C19","v":0},{"$nulls":15},{"$f":"'入力用（10％）'!S19","v":{"v":0,"d":"0.0"}},null,{"$f":"'入力用（10％）'!U19","v":{"v":0,"d":"0 "}},null,{"$f":"'入力用（10％）'!W19","v":{"v":0,"d":"0 "}},null,{"$f":"'入力用（10％）'!Y19","v":{"v":0,"d":"0 "}},null,{"$f":"'入力用（10％）'!AA19","v":{"v":0,"d":"0 "}},null,{"$f":"'入力用（10％）'!AC19","v":{"v":0,"d":"0 "}},null,{"$f":"'入力用（10％）'!AE19","v":{"v":0,"d":"0 "}}]
[{"$f":"IF('入力用（10％）'!A20=\"\",\"\",'入力用（10％）'!A20)","v":""},null,{"$f":"'入力用（10％）'!C20","v":0},{"$nulls":15},{"$f":"'入力用（10％）'!S20","v":{"v":0,"d":"0.0"}},null,{"$f":"'入力用（10％）'!U20","v":{"v":0,"d":"0 "}},null,{"$f":"'入力用（10％）'!W20","v":{"v":0,"d":"0 "}},null,{"$f":"'入力用（10％）'!Y20","v":{"v":0,"d":"0 "}},null,{"$f":"'入力用（10％）'!AA20","v":{"v":0,"d":"0 "}},null,{"$f":"'入力用（10％）'!AC20","v":{"v":0,"d":"0 "}},null,{"$f":"'入力用（10％）'!AE20","v":{"v":0,"d":"0 "}}]
[{"$f":"IF('入力用（10％）'!A21=\"\",\"\",'入力用（10％）'!A21)","v":""},null,{"$f":"'入力用（10％）'!C21","v":0},{"$nulls":15},{"$f":"'入力用（10％）'!S21","v":{"v":0,"d":"0.0"}},null,{"$f":"'入力用（10％）'!U21","v":{"v":0,"d":"0 "}},null,{"$f":"'入力用（10％）'!W21","v":{"v":0,"d":"0 "}},null,{"$f":"'入力用（10％）'!Y21","v":{"v":0,"d":"0 "}},null,{"$f":"'入力用（10％）'!AA21","v":{"v":0,"d":"0 "}},null,{"$f":"'入力用（10％）'!AC21","v":{"v":0,"d":"0 "}},null,{"$f":"'入力用（10％）'!AE21","v":{"v":0,"d":"0 "}}]
[{"$f":"IF('入力用（10％）'!A22=\"\",\"\",'入力用（10％）'!A22)","v":""},null,{"$f":"'入力用（10％）'!C22","v":0},{"$nulls":15},{"$f":"'入力用（10％）'!S22","v":{"v":0,"d":"0.0"}},null,{"$f":"'入力用（10％）'!U22","v":{"v":0,"d":"0 "}},null,{"$f":"'入力用（10％）'!W22","v":{"v":0,"d":"0 "}},null,{"$f":"'入力用（10％）'!Y22","v":{"v":0,"d":"0 "}},null,{"$f":"'入力用（10％）'!AA22","v":{"v":0,"d":"0 "}},null,{"$f":"'入力用（10％）'!AC22","v":{"v":0,"d":"0 "}},null,{"$f":"'入力用（10％）'!AE22","v":{"v":0,"d":"0 "}}]
[{"$f":"IF('入力用（10％）'!A23=\"\",\"\",'入力用（10％）'!A23)","v":""},null,{"$f":"'入力用（10％）'!C23","v":0},{"$nulls":15},{"$f":"'入力用（10％）'!S23","v":{"v":0,"d":"0.0"}},null,{"$f":"'入力用（10％）'!U23","v":{"v":0,"d":"0 "}},null,{"$f":"'入力用（10％）'!W23","v":{"v":0,"d":"0 "}},null,{"$f":"'入力用（10％）'!Y23","v":{"v":0,"d":"0 "}},null,{"$f":"'入力用（10％）'!AA23","v":{"v":0,"d":"0 "}},null,{"$f":"'入力用（10％）'!AC23","v":{"v":0,"d":"0 "}},null,{"$f":"'入力用（10％）'!AE23","v":{"v":0,"d":"0 "}}]
[{"$f":"IF('入力用（10％）'!A24=\"\",\"\",'入力用（10％）'!A24)","v":""},null,{"$f":"'入力用（10％）'!C24","v":0},{"$nulls":15},{"$f":"'入力用（10％）'!S24","v":{"v":0,"d":"0.0"}},null,{"$f":"'入力用（10％）'!U24","v":{"v":0,"d":"0 "}},null,{"$f":"'入力用（10％）'!W24","v":{"v":0,"d":"0 "}},null,{"$f":"'入力用（10％）'!Y24","v":{"v":0,"d":"0 "}},null,{"$f":"'入力用（10％）'!AA24","v":{"v":0,"d":"0 "}},null,{"$f":"'入力用（10％）'!AC24","v":{"v":0,"d":"0 "}},null,{"$f":"'入力用（10％）'!AE24","v":{"v":0,"d":"0 "}}]
[{"$f":"IF('入力用（10％）'!A25=\"\",\"\",'入力用（10％）'!A25)","v":""},null,{"$f":"'入力用（10％）'!C25","v":0},{"$nulls":15},{"$f":"'入力用（10％）'!S25","v":{"v":0,"d":"0.0"}},null,{"$f":"'入力用（10％）'!U25","v":{"v":0,"d":"0 "}},null,{"$f":"'入力用（10％）'!W25","v":{"v":0,"d":"0 "}},null,{"$f":"'入力用（10％）'!Y25","v":{"v":0,"d":"0 "}},null,{"$f":"'入力用（10％）'!AA25","v":{"v":0,"d":"0 "}},null,{"$f":"'入力用（10％）'!AC25","v":{"v":0,"d":"0 "}},null,{"$f":"'入力用（10％）'!AE25","v":{"v":0,"d":"0 "}}]
[{"$f":"IF('入力用（10％）'!A26=\"\",\"\",'入力用（10％）'!A26)","v":""},null,{"$f":"'入力用（10％）'!C26","v":0},{"$nulls":15},{"$f":"'入力用（10％）'!S26","v":{"v":0,"d":"0.0"}},null,{"$f":"'入力用（10％）'!U26","v":{"v":0,"d":"0 "}},null,{"$f":"'入力用（10％）'!W26","v":{"v":0,"d":"0 "}},null,{"$f":"'入力用（10％）'!Y26","v":{"v":0,"d":"0 "}},null,{"$f":"'入力用（10％）'!AA26","v":{"v":0,"d":"0 "}},null,{"$f":"'入力用（10％）'!AC26","v":{"v":0,"d":"0 "}},null,{"$f":"'入力用（10％）'!AE26","v":{"v":0,"d":"0 "}}]
[{"$nulls":14},"消費税 10％",{"$nulls":3},{"$f":"AA27*0.1","v":{"v":0,"d":"0 "}},{"$nulls":3},"小計(10％対象)",{"$nulls":3},{"$f":"SUM(AA17:AF26)","v":{"v":0,"d":"0 "}}]
[{"$nulls":18},"合　　計",null,null,{"$f":"SUM(AA27,S27)","v":{"v":0,"d":"0 "}}]

{"sheet":"入力用 (8％)","index":4,"n_rows":28,"n_cols":34,"rows_kept":28,"merged":[[0,11,1,19],[0,20,1,22],[1,26,1,27],[4,0,4,3],[4,5,4,6],[4,8,4,9],[4,15,4,18],[4,20,4,31],[5,15,11,18],[5,19,6,31],[6,0,7,7],[7,19,8,29],[7,30,8,31],[9,19,10,31],[10,0,11,3],[10,4,11,11],[11,19,11,31],[13,0,13,3],[13,4,13,8],[13,10,13,13],[13,14,13,31],[15,0,15,1],[15,2,15,17],[15,18,15,19],[15,20,15,21],[15,22,15,25],[15,26,15,31],[16,0,16,1],[16,2,16,17],[16,18,16,19],[16,20,16,21],[16,22,16,25],[16,26,16,31],[17,0,17,1],[17,2,17,17],[17,18,17,19],[17,20,17,21],[17,22,17,25],[17,26,17,31],[18,0,18,1],[18,2,18,17],[18,18,18,19],[18,20,18,21],[18,22,18,25],[18,26,18,31],[19,0,19,1],[19,2,19,17],[19,18,19,19],[19,20,19,21],[19,22,19,25],[19,26,19,31],[20,0,20,1],[20,2,20,17],[20,18,20,19],[20,20,20,21],[20,22,20,25],[20,26,20,31],[21,0,21,1],[21,2,21,17],[21,18,21,19],[21,20,21,21],[21,22,21,25],[21,26,21,31],[22,0,22,1],[22,2,22,17],[22,18,22,19],[22,20,22,21],[22,22,22,25],[22,26,22,31],[23,0,23,1],[23,2,23,17],[23,18,23,19],[23,20,23,21],[23,22,23,25],[23,26,23,31],[24,0,24,1],[24,2,24,17],[24,18,24,19],[24,20,24,21],[24,22,24,25],[24,26,24,31],[25,0,25,1],[25,2,25,17],[25,18,25,19],[25,20,25,21],[25,22,25,25],[25,26,25,31],[26,0,26,1],[26,2,26,13],[26,14,26,17],[26,18,26,21],[26,22,26,25],[26,26,26,31],[27,0,27,1],[27,2,27,13],[27,14,27,15],[27,16,27,17],[27,18,27,20],[27,21,27,31]]}
[{"$nulls":11},"請求書",{"$nulls":8},"（入力用）"]
[{"$nulls":26},"No."]
[]
[]
[{"$nulls":4},"年",null,null,"月",null,null,"日",{"$nulls":4},"登録番号",{"$nulls":3},"T","0-0000-0000"]
[{"$nulls":15},"請求者",{"$nulls":3},"（住所）",{"$nulls":13},"色のついたところにご入力ください。"]
["株式会社フロント殿",{"$nulls":32},"合計額が合っているか、必ずご確認ください。"]
[{"$nulls":19},"（会社名）",{"$nulls":10},"印",null,null,"適用欄の記入方法は１マス１行に限りませんが、不足した場合には右上No. に"]
[null,"下記の通り請求いたします。",{"$nulls":31},"番号を振り、複数枚ご提出ください。"]
[{"$nulls":19},"（代表者名）"]
["請求金額",{"$nulls":3},{"$f":"V28","v":{"v":0,"d":"0 "}}]
[{"$nulls":19},"（電話番号）"]
[]
["工事番号",{"$nulls":9},"工事名称"]
[]
["日付",null,"適　　用",{"$nulls":15},"数量",null,"単位",null,"単　価",{"$nulls":3},"金　額"]
{"$rows_empty":10}
[{"$nulls":14},"消費税 8％",{"$nulls":3},{"$f":"AA27*0.1","v":{"v":0,"d":"0 "}},{"$nulls":3},"小計(8％対象)",{"$nulls":3},{"$f":"SUM(AA17:AF26)","v":{"v":0,"d":"0 "}}]
[{"$nulls":18},"合　　計",null,null,{"$f":"SUM(AA27,S27)","v":{"v":0,"d":"0 "}}]

{"sheet":"正 (8％)","index":5,"n_rows":37,"n_cols":31,"rows_kept":37,"merged":[[0,11,1,19],[4,0,4,3],[4,5,4,6],[4,8,4,9],[4,15,4,18],[4,20,4,31],[5,15,11,18],[5,19,6,31],[6,0,7,7],[7,19,8,29],[7,30,8,31],[9,19,10,31],[10,0,11,3],[10,4,11,11],[11,19,11,31],[13,0,13,3],[13,4,13,8],[13,10,13,13],[13,14,13,31],[15,0,15,1],[15,2,15,17],[15,18,15,19],[15,20,15,21],[15,22,15,25],[15,26,15,31],[16,0,16,1],[16,2,16,17],[16,18,16,19],[16,20,16,21],[16,22,16,25],[16,26,16,31],[17,0,17,1],[17,2,17,17],[17,18,17,19],[17,20,17,21],[17,22,17,25],[17,26,17,31],[18,0,18,1],[18,2,18,17],[18,18,18,19],[18,20,18,21],[18,22,18,25],[18,26,18,31],[19,0,19,1],[19,2,19,17],[19,18,19,19],[19,20,19,21],[19,22,19,25],[19,26,19,31],[20,0,20,1],[20,2,20,17],[20,18,20,19],[20,20,20,21],[20,22,20,25],[20,26,20,31],[21,0,21,1],[21,2,21,17],[21,18,21,19],[21,20,21,21],[21,22,21,25],[21,26,21,31],[22,0,22,1],[22,2,22,17],[22,18,22,19],[22,20,22,21],[22,22,22,25],[22,26,22,31],[23,0,23,1],[23,2,23,17],[23,18,23,19],[23,20,23,21],[23,22,23,25],[23,26,23,31],[24,0,24,1],[24,2,24,17],[24,18,24,19],[24,20,24,21],[24,22,24,25],[24,26,24,31],[25,0,25,1],[25,2,25,17],[25,18,25,19],[25,20,25,21],[25,22,25,25],[25,26,25,31],[26,0,26,1],[26,2,26,13],[26,14,26,17],[26,18,26,21],[26,22,26,25],[26,26,26,31],[27,0,27,1],[27,2,27,13],[27,14,27,15],[27,16,27,17],[27,18,27,20],[27,21,27,31],[31,0,31,5],[32,0,33,3],[32,4,33,11],[32,12,35,13],[32,14,32,16],[32,17,32,19],[32,20,32,22],[32,23,32,25],[32,26,32,28],[32,29,32,31],[33,14,35,16],[33,17,35,19],[33,20,35,22],[33,23,35,25],[33,26,35,28],[33,29,35,31],[34,0,35,3],[34,4,35,11],[36,0,37,3],[36,4,37,31]]}
[{"$nulls":11},"請求書"]
[{"$nulls":26},"No."]
[]
[]
[{"$f":"'入力用 (8％)'!A5","v":0},{"$nulls":3},"年",{"$f":"'入力用 (8％)'!F5","v":0},null,"月",{"$f":"'入力用 (8％)'!I5","v":0},null,"日",{"$nulls":4},"登録番号",{"$nulls":3},"T",{"$f":"'入力用 (8％)'!U5","v":"0-0000-0000"}]
[{"$nulls":15},"請求者",{"$nulls":3},{"$f":"'入力用 (8％)'!T6","v":"（住所）"}]
["株式会社フロント殿"]
[{"$nulls":19},{"$f":"'入力用 (8％)'!T8","v":"（会社名）"},{"$nulls":10},{"$f":"'入力用 (8％)'!AE8","v":"印"}]
[null,"下記の通り請求いたします。"]
[{"$nulls":19},{"$f":"'入力用 (8％)'!T10","v":"（代表者名）"}]
["請求金額",{"$nulls":3},{"$f":"V28","v":{"v":0,"d":"0 "}}]
[{"$nulls":19},{"$f":"'入力用 (8％)'!T12","v":"（電話番号）"}]
[]
["工事番号",{"$nulls":3},{"$f":"'入力用 (8％)'!E14","v":0},{"$nulls":5},"工事名称",{"$nulls":3},{"$f":"'入力用 (8％)'!O14","v":0}]
[]
["日付",null,"適　　用",{"$nulls":15},"数量",null,"単位",null,"単　価",{"$nulls":3},"金　額"]
[{"$f":"IF('入力用（10％）'!A17=\"\",\"\",'入力用（10％）'!A17)","v":""},null,{"$f":"'入力用（10％）'!C17","v":0},{"$nulls":15},{"$f":"'入力用（10％）'!S17","v":{"v":0,"d":"0.0"}},null,{"$f":"'入力用（10％）'!U17","v":{"v":0,"d":"0 "}},null,{"$f":"'入力用（10％）'!W17","v":{"v":0,"d":"0 "}},null,{"$f":"'入力用（10％）'!Y17","v":{"v":0,"d":"0 "}},null,{"$f":"'入力用（10％）'!AA17","v":{"v":0,"d":"0 "}},null,{"$f":"'入力用（10％）'!AC17","v":{"v":0,"d":"0 "}},null,{"$f":"'入力用（10％）'!AE17","v":{"v":0,"d":"0 "}}]
[{"$f":"IF('入力用（10％）'!A18=\"\",\"\",'入力用（10％）'!A18)","v":""},null,{"$f":"'入力用（10％）'!C18","v":0},{"$nulls":15},{"$f":"'入力用（10％）'!S18","v":{"v":0,"d":"0.0"}},null,{"$f":"'入力用（10％）'!U18","v":{"v":0,"d":"0 "}},null,{"$f":"'入力用（10％）'!W18","v":{"v":0,"d":"0 "}},null,{"$f":"'入力用（10％）'!Y18","v":{"v":0,"d":"0 "}},null,{"$f":"'入力用（10％）'!AA18","v":{"v":0,"d":"0 "}},null,{"$f":"'入力用（10％）'!AC18","v":{"v":0,"d":"0 "}},null,{"$f":"'入力用（10％）'!AE18","v":{"v":0,"d":"0 "}}]
[{"$f":"IF('入力用（10％）'!A19=\"\",\"\",'入力用（10％）'!A19)","v":""},null,{"$f":"'入力用（10％）'!C19","v":0},{"$nulls":15},{"$f":"'入力用（10％）'!S19","v":{"v":0,"d":"0.0"}},null,{"$f":"'入力用（10％）'!U19","v":{"v":0,"d":"0 "}},null,{"$f":"'入力用（10％）'!W19","v":{"v":0,"d":"0 "}},null,{"$f":"'入力用（10％）'!Y19","v":{"v":0,"d":"0 "}},null,{"$f":"'入力用（10％）'!AA19","v":{"v":0,"d":"0 "}},null,{"$f":"'入力用（10％）'!AC19","v":{"v":0,"d":"0 "}},null,{"$f":"'入力用（10％）'!AE19","v":{"v":0,"d":"0 "}}]
[{"$f":"IF('入力用（10％）'!A20=\"\",\"\",'入力用（10％）'!A20)","v":""},null,{"$f":"'入力用（10％）'!C20","v":0},{"$nulls":15},{"$f":"'入力用（10％）'!S20","v":{"v":0,"d":"0.0"}},null,{"$f":"'入力用（10％）'!U20","v":{"v":0,"d":"0 "}},null,{"$f":"'入力用（10％）'!W20","v":{"v":0,"d":"0 "}},null,{"$f":"'入力用（10％）'!Y20","v":{"v":0,"d":"0 "}},null,{"$f":"'入力用（10％）'!AA20","v":{"v":0,"d":"0 "}},null,{"$f":"'入力用（10％）'!AC20","v":{"v":0,"d":"0 "}},null,{"$f":"'入力用（10％）'!AE20","v":{"v":0,"d":"0 "}}]
[{"$f":"IF('入力用（10％）'!A21=\"\",\"\",'入力用（10％）'!A21)","v":""},null,{"$f":"'入力用（10％）'!C21","v":0},{"$nulls":15},{"$f":"'入力用（10％）'!S21","v":{"v":0,"d":"0.0"}},null,{"$f":"'入力用（10％）'!U21","v":{"v":0,"d":"0 "}},null,{"$f":"'入力用（10％）'!W21","v":{"v":0,"d":"0 "}},null,{"$f":"'入力用（10％）'!Y21","v":{"v":0,"d":"0 "}},null,{"$f":"'入力用（10％）'!AA21","v":{"v":0,"d":"0 "}},null,{"$f":"'入力用（10％）'!AC21","v":{"v":0,"d":"0 "}},null,{"$f":"'入力用（10％）'!AE21","v":{"v":0,"d":"0 "}}]
[{"$f":"IF('入力用（10％）'!A22=\"\",\"\",'入力用（10％）'!A22)","v":""},null,{"$f":"'入力用（10％）'!C22","v":0},{"$nulls":15},{"$f":"'入力用（10％）'!S22","v":{"v":0,"d":"0.0"}},null,{"$f":"'入力用（10％）'!U22","v":{"v":0,"d":"0 "}},null,{"$f":"'入力用（10％）'!W22","v":{"v":0,"d":"0 "}},null,{"$f":"'入力用（10％）'!Y22","v":{"v":0,"d":"0 "}},null,{"$f":"'入力用（10％）'!AA22","v":{"v":0,"d":"0 "}},null,{"$f":"'入力用（10％）'!AC22","v":{"v":0,"d":"0 "}},null,{"$f":"'入力用（10％）'!AE22","v":{"v":0,"d":"0 "}}]
[{"$f":"IF('入力用（10％）'!A23=\"\",\"\",'入力用（10％）'!A23)","v":""},null,{"$f":"'入力用（10％）'!C23","v":0},{"$nulls":15},{"$f":"'入力用（10％）'!S23","v":{"v":0,"d":"0.0"}},null,{"$f":"'入力用（10％）'!U23","v":{"v":0,"d":"0 "}},null,{"$f":"'入力用（10％）'!W23","v":{"v":0,"d":"0 "}},null,{"$f":"'入力用（10％）'!Y23","v":{"v":0,"d":"0 "}},null,{"$f":"'入力用（10％）'!AA23","v":{"v":0,"d":"0 "}},null,{"$f":"'入力用（10％）'!AC23","v":{"v":0,"d":"0 "}},null,{"$f":"'入力用（10％）'!AE23","v":{"v":0,"d":"0 "}}]
[{"$f":"IF('入力用（10％）'!A24=\"\",\"\",'入力用（10％）'!A24)","v":""},null,{"$f":"'入力用（10％）'!C24","v":0},{"$nulls":15},{"$f":"'入力用（10％）'!S24","v":{"v":0,"d":"0.0"}},null,{"$f":"'入力用（10％）'!U24","v":{"v":0,"d":"0 "}},null,{"$f":"'入力用（10％）'!W24","v":{"v":0,"d":"0 "}},null,{"$f":"'入力用（10％）'!Y24","v":{"v":0,"d":"0 "}},null,{"$f":"'入力用（10％）'!AA24","v":{"v":0,"d":"0 "}},null,{"$f":"'入力用（10％）'!AC24","v":{"v":0,"d":"0 "}},null,{"$f":"'入力用（10％）'!AE24","v":{"v":0,"d":"0 "}}]
[{"$f":"IF('入力用（10％）'!A25=\"\",\"\",'入力用（10％）'!A25)","v":""},null,{"$f":"'入力用（10％）'!C25","v":0},{"$nulls":15},{"$f":"'入力用（10％）'!S25","v":{"v":0,"d":"0.0"}},null,{"$f":"'入力用（10％）'!U25","v":{"v":0,"d":"0 "}},null,{"$f":"'入力用（10％）'!W25","v":{"v":0,"d":"0 "}},null,{"$f":"'入力用（10％）'!Y25","v":{"v":0,"d":"0 "}},null,{"$f":"'入力用（10％）'!AA25","v":{"v":0,"d":"0 "}},null,{"$f":"'入力用（10％）'!AC25","v":{"v":0,"d":"0 "}},null,{"$f":"'入力用（10％）'!AE25","v":{"v":0,"d":"0 "}}]
[{"$f":"IF('入力用（10％）'!A26=\"\",\"\",'入力用（10％）'!A26)","v":""},null,{"$f":"'入力用（10％）'!C26","v":0},{"$nulls":15},{"$f":"'入力用（10％）'!S26","v":{"v":0,"d":"0.0"}},null,{"$f":"'入力用（10％）'!U26","v":{"v":0,"d":"0 "}},null,{"$f":"'入力用（10％）'!W26","v":{"v":0,"d":"0 "}},null,{"$f":"'入力用（10％）'!Y26","v":{"v":0,"d":"0 "}},null,{"$f":"'入力用（10％）'!AA26","v":{"v":0,"d":"0 "}},null,{"$f":"'入力用（10％）'!AC26","v":{"v":0,"d":"0 "}},null,{"$f":"'入力用（10％）'!AE26","v":{"v":0,"d":"0 "}}]
[{"$nulls":14},"消費税 8％",{"$nulls":3},{"$f":"AA27*0.1","v":{"v":0,"d":"0 "}},{"$nulls":3},"小計(8％対象)",{"$nulls":3},{"$f":"SUM(AA17:AF26)","v":{"v":0,"d":"0 "}}]
[{"$nulls":18},"合　　計",null,null,{"$f":"SUM(AA27,S27)","v":{"v":0,"d":"0 "}}]
[]
[]
[]
["㈱フロント記入欄"]
["注文番号",{"$nulls":11},"承認",null,"会長",null,null,"社長",null,null,"部長",null,null,"担当"]
[]
["工事項目コード"]
[]
["備　考"]

{"sheet":"請求者控 (8％)","index":6,"n_rows":28,"n_cols":31,"rows_kept":28,"merged":[[0,11,1,19],[0,20,1,21],[4,0,4,3],[4,5,4,6],[4,8,4,9],[4,15,4,18],[4,20,4,31],[5,15,11,18],[5,19,6,31],[6,0,7,7],[7,19,8,29],[7,30,8,31],[9,19,10,31],[10,0,11,3],[10,4,11,11],[11,19,11,31],[13,0,13,3],[13,4,13,8],[13,10,13,13],[13,14,13,31],[15,0,15,1],[15,2,15,17],[15,18,15,19],[15,20,15,21],[15,22,15,25],[15,26,15,31],[16,0,16,1],[16,2,16,17],[16,18,16,19],[16,20,16,21],[16,22,16,25],[16,26,16,31],[17,0,17,1],[17,2,17,17],[17,18,17,19],[17,20,17,21],[17,22,17,25],[17,26,17,31],[18,0,18,1],[18,2,18,17],[18,18,18,19],[18,20,18,21],[18,22,18,25],[18,26,18,31],[19,0,19,1],[19,2,19,17],[19,18,19,19],[19,20,19,21],[19,22,19,25],[19,26,19,31],[20,0,20,1],[20,2,20,17],[20,18,20,19],[20,20,20,21],[20,22,20,25],[20,26,20,31],[21,0,21,1],[21,2,21,17],[21,18,21,19],[21,20,21,21],[21,22,21,25],[21,26,21,31],[22,0,22,1],[22,2,22,17],[22,18,22,19],[22,20,22,21],[22,22,22,25],[22,26,22,31],[23,0,23,1],[23,2,23,17],[23,18,23,19],[23,20,23,21],[23,22,23,25],[23,26,23,31],[24,0,24,1],[24,2,24,17],[24,18,24,19],[24,20,24,21],[24,22,24,25],[24,26,24,31],[25,0,25,1],[25,2,25,17],[25,18,25,19],[25,20,25,21],[25,22,25,25],[25,26,25,31],[26,0,26,1],[26,2,26,13],[26,14,26,17],[26,18,26,21],[26,22,26,25],[26,26,26,31],[27,0,27,1],[27,2,27,13],[27,14,27,15],[27,16,27,17],[27,18,27,20],[27,21,27,31]]}
[{"$nulls":11},"請求書",{"$nulls":8},"（控）"]
[{"$nulls":26},"No."]
[]
[]
[{"$f":"'入力用 (8％)'!A5","v":0},{"$nulls":3},"年",{"$f":"'入力用 (8％)'!F5","v":0},null,"月",{"$f":"'入力用 (8％)'!I5","v":0},null,"日",{"$nulls":4},"登録番号",{"$nulls":3},"T",{"$f":"'入力用 (8％)'!U5","v":"0-0000-0000"}]
[{"$nulls":15},"請求者",{"$nulls":3},{"$f":"'入力用 (8％)'!T6","v":"（住所）"}]
["株式会社フロント殿"]
[{"$nulls":19},{"$f":"'入力用 (8％)'!T8","v":"（会社名）"},{"$nulls":10},{"$f":"'入力用 (8％)'!AE8","v":"印"}]
[null,"下記の通り請求いたします。"]
[{"$nulls":19},{"$f":"'入力用 (8％)'!T10","v":"（代表者名）"}]
["請求金額",{"$nulls":3},{"$f":"V28","v":{"v":0,"d":"0 "}}]
[{"$nulls":19},{"$f":"'入力用 (8％)'!T12","v":"（電話番号）"}]
[]
["工事番号",{"$nulls":3},{"$f":"'入力用 (8％)'!E14","v":0},{"$nulls":5},"工事名称",{"$nulls":3},{"$f":"'入力用 (8％)'!O14","v":0}]
[]
["日付",null,"適　　用",{"$nulls":15},"数量",null,"単位",null,"単　価",{"$nulls":3},"金　額"]
[{"$f":"IF('入力用（10％）'!A17=\"\",\"\",'入力用（10％）'!A17)","v":""},null,{"$f":"'入力用（10％）'!C17","v":0},{"$nulls":15},{"$f":"'入力用（10％）'!S17","v":{"v":0,"d":"0.0"}},null,{"$f":"'入力用（10％）'!U17","v":{"v":0,"d":"0 "}},null,{"$f":"'入力用（10％）'!W17","v":{"v":0,"d":"0 "}},null,{"$f":"'入力用（10％）'!Y17","v":{"v":0,"d":"0 "}},null,{"$f":"'入力用（10％）'!AA17","v":{"v":0,"d":"0 "}},null,{"$f":"'入力用（10％）'!AC17","v":{"v":0,"d":"0 "}},null,{"$f":"'入力用（10％）'!AE17","v":{"v":0,"d":"0 "}}]
[{"$f":"IF('入力用（10％）'!A18=\"\",\"\",'入力用（10％）'!A18)","v":""},null,{"$f":"'入力用（10％）'!C18","v":0},{"$nulls":15},{"$f":"'入力用（10％）'!S18","v":{"v":0,"d":"0.0"}},null,{"$f":"'入力用（10％）'!U18","v":{"v":0,"d":"0 "}},null,{"$f":"'入力用（10％）'!W18","v":{"v":0,"d":"0 "}},null,{"$f":"'入力用（10％）'!Y18","v":{"v":0,"d":"0 "}},null,{"$f":"'入力用（10％）'!AA18","v":{"v":0,"d":"0 "}},null,{"$f":"'入力用（10％）'!AC18","v":{"v":0,"d":"0 "}},null,{"$f":"'入力用（10％）'!AE18","v":{"v":0,"d":"0 "}}]
[{"$f":"IF('入力用（10％）'!A19=\"\",\"\",'入力用（10％）'!A19)","v":""},null,{"$f":"'入力用（10％）'!C19","v":0},{"$nulls":15},{"$f":"'入力用（10％）'!S19","v":{"v":0,"d":"0.0"}},null,{"$f":"'入力用（10％）'!U19","v":{"v":0,"d":"0 "}},null,{"$f":"'入力用（10％）'!W19","v":{"v":0,"d":"0 "}},null,{"$f":"'入力用（10％）'!Y19","v":{"v":0,"d":"0 "}},null,{"$f":"'入力用（10％）'!AA19","v":{"v":0,"d":"0 "}},null,{"$f":"'入力用（10％）'!AC19","v":{"v":0,"d":"0 "}},null,{"$f":"'入力用（10％）'!AE19","v":{"v":0,"d":"0 "}}]
[{"$f":"IF('入力用（10％）'!A20=\"\",\"\",'入力用（10％）'!A20)","v":""},null,{"$f":"'入力用（10％）'!C20","v":0},{"$nulls":15},{"$f":"'入力用（10％）'!S20","v":{"v":0,"d":"0.0"}},null,{"$f":"'入力用（10％）'!U20","v":{"v":0,"d":"0 "}},null,{"$f":"'入力用（10％）'!W20","v":{"v":0,"d":"0 "}},null,{"$f":"'入力用（10％）'!Y20","v":{"v":0,"d":"0 "}},null,{"$f":"'入力用（10％）'!AA20","v":{"v":0,"d":"0 "}},null,{"$f":"'入力用（10％）'!AC20","v":{"v":0,"d":"0 "}},null,{"$f":"'入力用（10％）'!AE20","v":{"v":0,"d":"0 "}}]
[{"$f":"IF('入力用（10％）'!A21=\"\",\"\",'入力用（10％）'!A21)","v":""},null,{"$f":"'入力用（10％）'!C21","v":0},{"$nulls":15},{"$f":"'入力用（10％）'!S21","v":{"v":0,"d":"0.0"}},null,{"$f":"'入力用（10％）'!U21","v":{"v":0,"d":"0 "}},null,{"$f":"'入力用（10％）'!W21","v":{"v":0,"d":"0 "}},null,{"$f":"'入力用（10％）'!Y21","v":{"v":0,"d":"0 "}},null,{"$f":"'入力用（10％）'!AA21","v":{"v":0,"d":"0 "}},null,{"$f":"'入力用（10％）'!AC21","v":{"v":0,"d":"0 "}},null,{"$f":"'入力用（10％）'!AE21","v":{"v":0,"d":"0 "}}]
[{"$f":"IF('入力用（10％）'!A22=\"\",\"\",'入力用（10％）'!A22)","v":""},null,{"$f":"'入力用（10％）'!C22","v":0},{"$nulls":15},{"$f":"'入力用（10％）'!S22","v":{"v":0,"d":"0.0"}},null,{"$f":"'入力用（10％）'!U22","v":{"v":0,"d":"0 "}},null,{"$f":"'入力用（10％）'!W22","v":{"v":0,"d":"0 "}},null,{"$f":"'入力用（10％）'!Y22","v":{"v":0,"d":"0 "}},null,{"$f":"'入力用（10％）'!AA22","v":{"v":0,"d":"0 "}},null,{"$f":"'入力用（10％）'!AC22","v":{"v":0,"d":"0 "}},null,{"$f":"'入力用（10％）'!AE22","v":{"v":0,"d":"0 "}}]
[{"$f":"IF('入力用（10％）'!A23=\"\",\"\",'入力用（10％）'!A23)","v":""},null,{"$f":"'入力用（10％）'!C23","v":0},{"$nulls":15},{"$f":"'入力用（10％）'!S23","v":{"v":0,"d":"0.0"}},null,{"$f":"'入力用（10％）'!U23","v":{"v":0,"d":"0 "}},null,{"$f":"'入力用（10％）'!W23","v":{"v":0,"d":"0 "}},null,{"$f":"'入力用（10％）'!Y23","v":{"v":0,"d":"0 "}},null,{"$f":"'入力用（10％）'!AA23","v":{"v":0,"d":"0 "}},null,{"$f":"'入力用（10％）'!AC23","v":{"v":0,"d":"0 "}},null,{"$f":"'入力用（10％）'!AE23","v":{"v":0,"d":"0 "}}]
[{"$f":"IF('入力用（10％）'!A24=\"\",\"\",'入力用（10％）'!A24)","v":""},null,{"$f":"'入力用（10％）'!C24","v":0},{"$nulls":15},{"$f":"'入力用（10％）'!S24","v":{"v":0,"d":"0.0"}},null,{"$f":"'入力用（10％）'!U24","v":{"v":0,"d":"0 "}},null,{"$f":"'入力用（10％）'!W24","v":{"v":0,"d":"0 "}},null,{"$f":"'入力用（10％）'!Y24","v":{"v":0,"d":"0 "}},null,{"$f":"'入力用（10％）'!AA24","v":{"v":0,"d":"0 "}},null,{"$f":"'入力用（10％）'!AC24","v":{"v":0,"d":"0 "}},null,{"$f":"'入力用（10％）'!AE24","v":{"v":0,"d":"0 "}}]
[{"$f":"IF('入力用（10％）'!A25=\"\",\"\",'入力用（10％）'!A25)","v":""},null,{"$f":"'入力用（10％）'!C25","v":0},{"$nulls":15},{"$f":"'入力用（10％）'!S25","v":{"v":0,"d":"0.0"}},null,{"$f":"'入力用（10％）'!U25","v":{"v":0,"d":"0 "}},null,{"$f":"'入力用（10％）'!W25","v":{"v":0,"d":"0 "}},null,{"$f":"'入力用（10％）'!Y25","v":{"v":0,"d":"0 "}},null,{"$f":"'入力用（10％）'!AA25","v":{"v":0,"d":"0 "}},null,{"$f":"'入力用（10％）'!AC25","v":{"v":0,"d":"0 "}},null,{"$f":"'入力用（10％）'!AE25","v":{"v":0,"d":"0 "}}]
[{"$f":"IF('入力用（10％）'!A26=\"\",\"\",'入力用（10％）'!A26)","v":""},null,{"$f":"'入力用（10％）'!C26","v":0},{"$nulls":15},{"$f":"'入力用（10％）'!S26","v":{"v":0,"d":"0.0"}},null,{"$f":"'入力用（10％）'!U26","v":{"v":0,"d":"0 "}},null,{"$f":"'入力用（10％）'!W26","v":{"v":0,"d":"0 "}},null,{"$f":"'入力用（10％）'!Y26","v":{"v":0,"d":"0 "}},null,{"$f":"'入力用（10％）'!AA26","v":{"v":0,"d":"0 "}},null,{"$f":"'入力用（10％）'!AC26","v":{"v":0,"d":"0 "}},null,{"$f":"'入力用（10％）'!AE26","v":{"v":0,"d":"0 "}}]
[{"$nulls":14},"消費税 8％",{"$nulls":3},{"$f":"AA27*0.1","v":{"v":0,"d":"0 "}},{"$nulls":3},"小計(8％対象)",{"$nulls":3},{"$f":"SUM(AA17:AF26)","v":{"v":0,"d":"0 "}}]
[{"$nulls":18},"合　　計",null,null,{"$f":"SUM(AA27,S27)","v":{"v":0,"d":"0 "}}]